BEGIN:VCALENDAR
VERSION:2.0
PRODID:-//ChamberMaster//Event Calendar 2.0//EN
METHOD:PUBLISH
X-PUBLISHED-TTL:P3D
REFRESH-INTERVAL:P3D
CALSCALE:GREGORIAN
BEGIN:VEVENT
DTSTART:20080117T210000Z
DTEND:20080118T000000Z
X-MICROSOFT-CDO-ALLDAYEVENT:FALSE
SUMMARY:Business & Community Expo 2008
DESCRIPTION:Chamber Business & Community Expo\, 4-7 p.m. to be held at Tartan East\,  6140 Babbitt Rd.\, Come and meet the men and women who enjoy doing business in the New Albany Area.  Sponsorships and booth spaces still available.  To reserve a space call the chamber office:  855-4400.
X-ALT-DESC;FMTTYPE=text/html:<p>Chamber Business &amp\; Community Expo\, 4-7 p.m. to be held at Tartan East\,&nbsp\; 6140 Babbitt Rd.\, Come and meet the men and women who enjoy doing business in the New Albany Area.&nbsp\; Sponsorships and booth spaces still available.&nbsp\; To reserve a space call the chamber office:&nbsp\; 855-4400.</p>\n
LOCATION:Tartan East\, 6140 Babbitt Rd.\, New Albany.
UID:e.304.2
SEQUENCE:3
DTSTAMP:20260424T104923Z
URL:https://cm.newalbanychamber.com/events/details/business-community-expo-2008-01-17-2008-2
END:VEVENT

END:VCALENDAR
