BEGIN:VCALENDAR
VERSION:2.0
PRODID:-//ChamberMaster//Event Calendar 2.0//EN
METHOD:PUBLISH
X-PUBLISHED-TTL:P3D
REFRESH-INTERVAL:P3D
CALSCALE:GREGORIAN
BEGIN:VEVENT
DTSTART:20090115T210000Z
DTEND:20090116T000000Z
X-MICROSOFT-CDO-ALLDAYEVENT:FALSE
SUMMARY:Business & Community Expo 2009
DESCRIPTION:New Albany Business & Community Expo 2009 \n\nSponsored by the New Albany Chamber & Village of New Albany. \n\nThis event is Free for the Public or any company representative to attend.  Enjoy networking and getting know neighborhood businesses that provide services to the New Albany Area. Meet Civic leaders involved in the planning of area events.  \n\nSpecial Keynote Speaker: MARC SLUTSKY will address guests on the topic: "INNOVATIVE LOW COST MARKETING-FOR INFINITY & BEYOND"  ( 5:30-6:00 p.m.)\n\nMeet men and women who enjoy doing business in New Albany.\n\nRaise the Profile of your organization or business
X-ALT-DESC;FMTTYPE=text/html:<div>\n<p><strong><span class="Title"><strong>New Albany Business &amp\; Community Expo 2009&nbsp\;</strong></span></strong></p>\n\n<p><strong><span class="Title"><font size="2"><strong>Sponsored by the New Albany Chamber &amp\; Village of New Albany.</strong>&nbsp\;</font></span></strong></p>\n\n<p><strong><span class="Title"><font size="1"><font size="2">This event is <u>Free</u> for the Public or any company representative to attend.&nbsp\; Enjoy networking and getting know neighborhood businesses that provide services to the New Albany Area. Meet Civic leaders involved in the planning of area events.</font>&nbsp\; </font></span></strong></p>\n\n<p><strong><span class="Title"><font size="3">Special Keynote Speaker: MARC SLUTSKY&nbsp\;will address guests on the topic:&nbsp\;&quot\;INNOVATIVE LOW COST MARKETING-FOR INFINITY &amp\; BEYOND&quot\;&nbsp\; ( 5:30-6:00 p.m.)</font></span></strong></p>\n\n<p><strong><span class="Title"><font size="3">Meet men and women who enjoy doing business in New Albany.</font></span></strong></p>\n\n<p><strong><span class="Title">Raise the Profile of your organization or business</span></strong></p>\n</div>\n
LOCATION:McCoy Center for the Arts 100 W. Granville Street New Albany\, OH 43054
UID:e.304.273
SEQUENCE:3
DTSTAMP:20260422T053203Z
URL:https://cm.newalbanychamber.com/events/details/business-community-expo-2009-01-15-2009-273
END:VEVENT

END:VCALENDAR
