BEGIN:VCALENDAR
VERSION:2.0
PRODID:-//ChamberMaster//Event Calendar 2.0//EN
METHOD:PUBLISH
X-PUBLISHED-TTL:P3D
REFRESH-INTERVAL:P3D
CALSCALE:GREGORIAN
BEGIN:VEVENT
DTSTART:20100121T210000Z
DTEND:20100122T000000Z
X-MICROSOFT-CDO-ALLDAYEVENT:FALSE
SUMMARY:Business & Community Expo 2010
DESCRIPTION:New Albany Business & Community Expo 2010Sponsored by the New Albany Chamber of Commerce We Thank our SpecialEvent Sponsors:  Carlile Patchen & Murphy\, LLP\, DeVry University\, Mount Carmel Hospital\, and Sam's Club. Start the year by networking with other companies doing businesses in the New Albany area. Team up with other community leaders to maximize your businesses exposure.  This event is Free and open to the public to attend.
X-ALT-DESC;FMTTYPE=text/html:<div><span style="font-size: x-small"><strong>New Albany Business &amp\; Community Expo 2010</strong></span></div><div>Sponsored by the New Albany Chamber of Commerce</div><div>&nbsp\;</div><div><span style="font-size: x-small"><strong>We Thank our Special</strong></span></div><div><span style="font-size: x-small"><strong>Event Sponsors:&nbsp\; Carlile Patchen &amp\; Murphy\, LLP\, DeVry University\, Mount Carmel Hospital\, and Sam's Club.</strong></span></div><div>&nbsp\;</div><div>Start the year by networking with other companies doing businesses in the New Albany area. Team up with other community leaders to maximize your businesses exposure.&nbsp\;</div><div>&nbsp\;</div><div>This event is Free and open to the public to attend.</div><div>&nbsp\;</div><div>&nbsp\;</div>
LOCATION:East Golf Club6140 Babbitt RoadNew Albany\, Ohio Take 161 east towards Newark. Take the Beech Rd. exit. Turn right at the light and right onto Old Dublin-Granville Rd. East Golf Club is on the left. May be accessible by Dublin-Granville Rd. or off of Babbitt Rd.
UID:e.304.530
SEQUENCE:3
DTSTAMP:20260421T115234Z
URL:https://cm.newalbanychamber.com/events/details/business-community-expo-2010-01-21-2010-530
END:VEVENT

END:VCALENDAR
