BEGIN:VCALENDAR
VERSION:2.0
PRODID:-//ChamberMaster//Event Calendar 2.0//EN
METHOD:PUBLISH
X-PUBLISHED-TTL:P3D
REFRESH-INTERVAL:P3D
CALSCALE:GREGORIAN
BEGIN:VEVENT
DTSTART:20110120T210000Z
DTEND:20110121T000000Z
X-MICROSOFT-CDO-ALLDAYEVENT:FALSE
SUMMARY:Business & Community Expo 2011
DESCRIPTION:Business and Community Expo 2011\n\nFREE to attend.\n\nBusiness and Community members welcome\n\nCome and browse the many business and civic organizations that offer services here in the New Albany area.
X-ALT-DESC;FMTTYPE=text/html:<span style="font-size: 16px"><strong>Business and Community Expo 2011<br />\nFREE to attend.<br />\nBusiness and Community members welcome<br />\nCome and browse the many business and civic organizations that offer services here in the New Albany area.</strong></span><br />\n<br />\n
LOCATION:Church of the Resurrection Educational Facility 6300 E. Dublin-Granville Rd. New Albany\, Ohio
UID:e.304.720
SEQUENCE:3
DTSTAMP:20260420T162107Z
URL:https://cm.newalbanychamber.com/events/details/business-community-expo-2011-01-20-2011-720
END:VEVENT

END:VCALENDAR
