BEGIN:VCALENDAR
VERSION:2.0
PRODID:-//ChamberMaster//Event Calendar 2.0//EN
METHOD:PUBLISH
X-PUBLISHED-TTL:P3D
REFRESH-INTERVAL:P3D
CALSCALE:GREGORIAN
BEGIN:VEVENT
DTSTART:20100422T124500Z
DTEND:20100422T153000Z
X-MICROSOFT-CDO-ALLDAYEVENT:FALSE
SUMMARY:Business First-Economy Seminar Series
DESCRIPTION:New Economy Series - 2nd Session\n\nTopic:  Trends & Opportunities\n\nPresented by David Staley\, Ph.D.\n\nThis session will explore the trends that are emerging and the opportunities for businesses and entrepreneurs.
X-ALT-DESC;FMTTYPE=text/html:New Economy Series - 2nd Session\n<br>Topic:  Trends &amp\; Opportunities\n<br>Presented by David Staley\, Ph.D.\n<br>This session will explore the trends that are emerging and the opportunities for businesses and entrepreneurs.
LOCATION:Conference Center-OCLC 6600 Kilgour Pl. Dublin\, Ohio 43017
UID:e.304.632
SEQUENCE:3
DTSTAMP:20260421T072106Z
URL:https://cm.newalbanychamber.com/events/details/business-first-economy-seminar-series-04-22-2010-632
END:VEVENT

END:VCALENDAR
