BEGIN:VCALENDAR
VERSION:2.0
PRODID:-//ChamberMaster//Event Calendar 2.0//EN
METHOD:PUBLISH
X-PUBLISHED-TTL:P3D
REFRESH-INTERVAL:P3D
CALSCALE:GREGORIAN
BEGIN:VEVENT
DTSTART:20100429T124500Z
DTEND:20100429T153000Z
X-MICROSOFT-CDO-ALLDAYEVENT:FALSE
SUMMARY:Business First-Economy Seminar Series
DESCRIPTION:New Economy Series - 3rd Session\n\n\n\nTopic: Strategy and Leadership  \n\n\n\nPresented by: Brian Newberry\, Northlich and Jessika Ferm\, J. Ferm\n\n\n\nThis workshop will help attendees identify and create effective strategies for success in the new economy. Attendees will also discover a new style of leadership that has emerged in the new economy and learn the techniques and skills needed to guide a successful organization.
X-ALT-DESC;FMTTYPE=text/html:New Economy Series - 3rd Session\n<br>\n<br>Topic: Strategy and Leadership  \n<br>\n<br>Presented by: Brian Newberry\, Northlich and Jessika Ferm\, J. Ferm\n<br>\n<br>This workshop will help attendees identify and create effective strategies for success in the new economy. Attendees will also discover a new style of leadership that has emerged in the new economy and learn the techniques and skills needed to guide a successful organization. \n<br>\n<br>\n<br>\n<br>
LOCATION:Conference Center-OCLC 6600 Kilgour Pl. Dublin\, Ohio 43017
UID:e.304.636
SEQUENCE:3
DTSTAMP:20260421T072025Z
URL:https://cm.newalbanychamber.com/events/details/business-first-economy-seminar-series-04-29-2010-636
END:VEVENT

END:VCALENDAR
