BEGIN:VCALENDAR
VERSION:2.0
PRODID:-//ChamberMaster//Event Calendar 2.0//EN
METHOD:PUBLISH
X-PUBLISHED-TTL:P3D
REFRESH-INTERVAL:P3D
CALSCALE:GREGORIAN
BEGIN:VEVENT
DTSTART:20100506T124500Z
DTEND:20100506T153000Z
X-MICROSOFT-CDO-ALLDAYEVENT:FALSE
SUMMARY:Business First-Economy Seminar Series
DESCRIPTION:New Economy Series - 4th Session\n\nTopic: Industry Expert Panel & Business Owner Panel\n\n\n\nThis interactive discussion with various industry experts will give attendees a chance to explore opportunities available in specific industries in Central Ohio that are emerging in the new economy. \n\nWe'll complete the series with an interactive panel discussion featuring business people who have already succeeded in making the most of the new economy. Panelists will include a cross-section of entrepreneurs and professionals who will share their stories and offer practical advice.
X-ALT-DESC;FMTTYPE=text/html:New Economy Series - 4th Session\n<br>Topic: Industry Expert Panel &amp\; Business Owner Panel\n<br>\n<br>This interactive discussion with various industry experts will give attendees a chance to explore opportunities available in specific industries in Central Ohio that are emerging in the new economy. \n<br>We'll complete the series with an interactive panel discussion featuring business people who have already succeeded in making the most of the new economy. Panelists will include a cross-section of entrepreneurs and professionals who will share their stories and offer practical advice.
LOCATION:Conference Center-OCLC 6600 Kilgour Pl. Dublin\, Ohio 43017
UID:e.304.635
SEQUENCE:3
DTSTAMP:20260421T053607Z
URL:https://cm.newalbanychamber.com/events/details/business-first-economy-seminar-series-05-06-2010-635
END:VEVENT

END:VCALENDAR
