BEGIN:VCALENDAR
VERSION:2.0
PRODID:-//ChamberMaster//Event Calendar 2.0//EN
METHOD:PUBLISH
X-PUBLISHED-TTL:P3D
REFRESH-INTERVAL:P3D
CALSCALE:GREGORIAN
BEGIN:VEVENT
DTSTART:20100415T124500Z
DTEND:20100415T153000Z
X-MICROSOFT-CDO-ALLDAYEVENT:FALSE
SUMMARY:Business First-New Economy Seninar
DESCRIPTION:Columbus Business First is hosting a New Economy Seminar four-part series\, where expert presenters will explain what the new economy is and how it affects business in Central Ohio.  $45 per session or $125 for the complete series.   Series Ticket price includes:Admisiosion to all four seminarsAdmission to the VIP Luncheon on May 6thA one year subscription to Business First.
X-ALT-DESC;FMTTYPE=text/html:<div><span style="font-size: small"><strong>Columbus Business First is hosting a New Economy Seminar four-part series\, where expert presenters will explain what the new economy is and how it affects business in Central Ohio.&nbsp\; $45 per session or $125 for the complete series.&nbsp\; </strong></span></div><div>&nbsp\;</div><div><span style="font-size: small"><strong>Series Ticket price includes:</strong></span></div><div><span style="font-size: small"><strong>Admisiosion to all four seminars</strong></span></div><div><span style="font-size: small"><strong>Admission to the VIP Luncheon on May 6th</strong></span></div><div><span style="font-size: small"><strong>A one year subscription to Business First.</strong></span></div>
LOCATION:Conference Center at OCLC6600 Kilgour PlaceDublin\, Ohio 43017
UID:e.304.631
SEQUENCE:3
DTSTAMP:20260421T072310Z
URL:https://cm.newalbanychamber.com/events/details/business-first-new-economy-seninar-04-15-2010-631
END:VEVENT

END:VCALENDAR
