BEGIN:VCALENDAR
VERSION:2.0
PRODID:-//ChamberMaster//Event Calendar 2.0//EN
METHOD:PUBLISH
X-PUBLISHED-TTL:P3D
REFRESH-INTERVAL:P3D
CALSCALE:GREGORIAN
BEGIN:VEVENT
DTSTART:20100414T220000Z
DTEND:20100415T013000Z
X-MICROSOFT-CDO-ALLDAYEVENT:FALSE
SUMMARY:Business is Booming
DESCRIPTION:Business is Booming Toursponsorsed by ActionCOACH. The Business is Booming Tours is an "Invitation only" event. with limited number of seats available.Come learn 29 proven and successful business strategies to massively grow your business\, and establish your vision and drive to take your business to the next level. More details on attached flyer and when registering use ticket code:  ACT718
X-ALT-DESC;FMTTYPE=text/html:<div><span style="font-size: small"><strong>Business is Booming Tour</strong></span></div><div><span style="font-size: small"><strong>sponsorsed by ActionCOACH.</strong></span></div><div>&nbsp\;</div><div>The Business is Booming Tours is an &quot\;Invitation only&quot\; event. with limited number of seats available.</div><div>Come learn 29 proven and successful business strategies to massively grow your business\, and establish your vision and drive to take your business to the next level.</div><div>&nbsp\;</div><div>More details on attached flyer and when registering use ticket code:&nbsp\; ACT718</div>
LOCATION:The Columbus Athenaeum
UID:e.304.610
SEQUENCE:3
DTSTAMP:20260421T071844Z
URL:https://cm.newalbanychamber.com/events/details/business-is-booming-04-14-2010-610
END:VEVENT

END:VCALENDAR
