BEGIN:VCALENDAR
VERSION:2.0
PRODID:-//ChamberMaster//Event Calendar 2.0//EN
METHOD:PUBLISH
X-PUBLISHED-TTL:P3D
REFRESH-INTERVAL:P3D
CALSCALE:GREGORIAN
BEGIN:VEVENT
DTSTART:20081206T130000Z
DTEND:20081206T050000Z
X-MICROSOFT-CDO-ALLDAYEVENT:FALSE
SUMMARY:Canned Food Drive by the Eagle Ambassadors
DESCRIPTION:Canned Food Drive by the Eagle Ambassador\, New Albany-Plain Local Schools.The mid-Ohio Food bank will be present to accept any and all donations.
X-ALT-DESC;FMTTYPE=text/html:<div>Canned Food Drive by the Eagle Ambassador\, New Albany-Plain Local Schools.</div><div>The mid-Ohio Food bank will be present to accept any and all donations.</div>
LOCATION:Bus Loop between the High and Middle Schools.
UID:e.304.396
SEQUENCE:3
DTSTAMP:20260422T071108Z
URL:https://cm.newalbanychamber.com/events/details/canned-food-drive-by-the-eagle-ambassadors-12-06-2008-396
END:VEVENT

END:VCALENDAR
