BEGIN:VCALENDAR
VERSION:2.0
PRODID:-//ChamberMaster//Event Calendar 2.0//EN
METHOD:PUBLISH
X-PUBLISHED-TTL:P3D
REFRESH-INTERVAL:P3D
CALSCALE:GREGORIAN
BEGIN:VEVENT
DTSTART;VALUE=DATE:20080624
DTEND;VALUE=DATE:20080625
TRANSP:TRANSPARENT
X-MICROSOFT-CDO-ALLDAYEVENT:TRUE
SUMMARY:Celebration of the New Albany Business Park
DESCRIPTION:Please mark your calendar for a very special celebration. Join us as we celebrate the 10th anniversary of the New Albany Business Park on June 24th at 6pm. This celebration will be held at the Tween Brands' headquarters. For more information contact Jennifer Chrysler at 614-855-3913.
X-ALT-DESC;FMTTYPE=text/html:<div>Please mark your calendar for a very special celebration. Join us as we celebrate the 10th anniversary of the New Albany Business Park on June 24th at 6pm. This celebration will be held at the Tween Brands' headquarters. For more information contact Jennifer Chrysler at 614-855-3913.</div>
LOCATION:
UID:e.304.243
SEQUENCE:3
DTSTAMP:20260422T161635Z
URL:https://cm.newalbanychamber.com/events/details/celebration-of-the-new-albany-business-park-06-24-2008-243
END:VEVENT

END:VCALENDAR
