BEGIN:VCALENDAR
VERSION:2.0
PRODID:-//ChamberMaster//Event Calendar 2.0//EN
METHOD:PUBLISH
X-PUBLISHED-TTL:P3D
REFRESH-INTERVAL:P3D
CALSCALE:GREGORIAN
BEGIN:VEVENT
DTSTART;VALUE=DATE:20090429
DTEND;VALUE=DATE:20090430
TRANSP:TRANSPARENT
X-MICROSOFT-CDO-ALLDAYEVENT:TRUE
SUMMARY:Center Stage Gala Featuring Martin Short
DESCRIPTION:The New Albany Community Foundation and the Jeanne B. McCoy Community Center for the Arts invites to Center Stage Gala Featuring Martin Short: Emmy Award-winning actor featured on SCTV Comedy Network\, Saturday Night Live\, and numerous feature films including The Three Amigos\, Inner Space and Father of the Bride on Wednesday\, April 29 in 2009. For more information contact Craig Mohre at 614-939-8150.
X-ALT-DESC;FMTTYPE=text/html:<div>The New Albany Community Foundation and the Jeanne B. McCoy Community Center for the Arts invites to <em>Center Stage Gala Featuring Martin Short: Emmy Award-winning actor featured on SCTV Comedy Network\, Saturday Night Live\, and numerous feature films including The Three Amigos\, Inner Space and Father of the Bride </em>on Wednesday\, April 29 in 2009. For more information contact Craig Mohre at 614-939-8150.</div>
LOCATION:
UID:e.304.337
SEQUENCE:3
DTSTAMP:20260422T004720Z
URL:https://cm.newalbanychamber.com/events/details/center-stage-gala-featuring-martin-short-04-29-2009-337
END:VEVENT

END:VCALENDAR
