BEGIN:VCALENDAR
VERSION:2.0
PRODID:-//ChamberMaster//Event Calendar 2.0//EN
METHOD:PUBLISH
X-PUBLISHED-TTL:P3D
REFRESH-INTERVAL:P3D
CALSCALE:GREGORIAN
BEGIN:VEVENT
DTSTART:20110515T000000Z
DTEND:20110515T020000Z
X-MICROSOFT-CDO-ALLDAYEVENT:FALSE
SUMMARY:CENTER STAGE GALA: The Neville Brothers
DESCRIPTION:The differences between the four Neville Brothers are as dramatic as the similarities that unite them. The source of the similarities is passionate funk\, a feeling for blues-soaked deep pocket grooves that is the basis of their greatness and exalted place in our cultural history. For over 30 years The Nevilles have provoked\, entertained and excited audiences around the globe.
X-ALT-DESC;FMTTYPE=text/html:The differences between the four Neville Brothers are as dramatic as the similarities that unite them. The source of the similarities is passionate funk\, a feeling for blues-soaked deep pocket grooves that is the basis of their greatness and exalted place in our cultural history. For over 30 years The Nevilles have provoked\, entertained and excited audiences around the globe. \n<br>
LOCATION:Jeanne B. McCoy Community Center for the Arts located at 100 W. Dublin-Granville Road New Albany\, OH 43054
UID:e.304.705
SEQUENCE:3
DTSTAMP:20260420T102111Z
URL:https://cm.newalbanychamber.com/events/details/center-stage-gala-the-neville-brothers-05-14-2011-705
END:VEVENT

END:VCALENDAR
