BEGIN:VCALENDAR
VERSION:2.0
PRODID:-//ChamberMaster//Event Calendar 2.0//EN
METHOD:PUBLISH
X-PUBLISHED-TTL:P3D
REFRESH-INTERVAL:P3D
CALSCALE:GREGORIAN
BEGIN:VEVENT
DTSTART;VALUE=DATE:20080515
DTEND;VALUE=DATE:20080516
TRANSP:TRANSPARENT
X-MICROSOFT-CDO-ALLDAYEVENT:TRUE
SUMMARY:Chamber After Hours Mixer
DESCRIPTION:Chamber Business After Hours Mixer
X-ALT-DESC;FMTTYPE=text/html:<div>Chamber Business After Hours Mixer</div>
LOCATION:New Albany Grill (formerly Gibby's Bar and Grill)29 S. High StreetNew Albany\, OH 43054
UID:e.304.187
SEQUENCE:3
DTSTAMP:20260422T174802Z
URL:https://cm.newalbanychamber.com/events/details/chamber-after-hours-mixer-05-15-2008-187
END:VEVENT

END:VCALENDAR
