BEGIN:VCALENDAR
VERSION:2.0
PRODID:-//ChamberMaster//Event Calendar 2.0//EN
METHOD:PUBLISH
X-PUBLISHED-TTL:P3D
REFRESH-INTERVAL:P3D
CALSCALE:GREGORIAN
BEGIN:VEVENT
DTSTART:20100511T170000Z
DTEND:20100511T230000Z
X-MICROSOFT-CDO-ALLDAYEVENT:FALSE
SUMMARY:Chamber Day at the Capital
DESCRIPTION:2010 Annual meeting and Legislative ReceptionfeaturingChamber Day at the Capital Keynote Speaker: Tom Brokaw
X-ALT-DESC;FMTTYPE=text/html:<div><strong><span style="font-size: x-small">2010 Annual meeting and Legislative Reception</span></strong></div><div><strong><span style="font-size: x-small">featuring</span></strong></div><div><strong><span style="font-size: x-small">Chamber Day at the Capital</span></strong></div><div>&nbsp\;</div><div><strong><span style="font-size: x-small">Keynote Speaker: Tom Brokaw</span></strong></div>
LOCATION:Riffe Center and Capitol Theatre
UID:e.304.633
SEQUENCE:3
DTSTAMP:20260421T053545Z
URL:https://cm.newalbanychamber.com/events/details/chamber-day-at-the-capital-05-11-2010-633
END:VEVENT

END:VCALENDAR
