BEGIN:VCALENDAR
VERSION:2.0
PRODID:-//ChamberMaster//Event Calendar 2.0//EN
METHOD:PUBLISH
X-PUBLISHED-TTL:P3D
REFRESH-INTERVAL:P3D
CALSCALE:GREGORIAN
BEGIN:VEVENT
DTSTART:20080915T153000Z
DTEND:20080915T170000Z
X-MICROSOFT-CDO-ALLDAYEVENT:FALSE
SUMMARY:Chamber Event
DESCRIPTION:Chamber EventTopic: TBA
X-ALT-DESC;FMTTYPE=text/html:<div>Chamber Event</div><div>Topic: TBA</div>
LOCATION:TBA
UID:e.304.310
SEQUENCE:3
DTSTAMP:20260422T114607Z
URL:https://cm.newalbanychamber.com/events/details/chamber-event-09-15-2008-310
END:VEVENT

END:VCALENDAR
