BEGIN:VCALENDAR
VERSION:2.0
PRODID:-//ChamberMaster//Event Calendar 2.0//EN
METHOD:PUBLISH
X-PUBLISHED-TTL:P3D
REFRESH-INTERVAL:P3D
CALSCALE:GREGORIAN
BEGIN:VEVENT
DTSTART:20110408T130000Z
DTEND:20110408T170000Z
X-MICROSOFT-CDO-ALLDAYEVENT:FALSE
SUMMARY:Chamber Government Day
DESCRIPTION:Join us at Chamber Government Day\n\nFeaturing Governor John Kasich\n\n\n\nRenaissance Columbus Downtown\n\n50 Third Street\n\nColumbus\n\n\n\nIndividual Tickets $50\n\nTable of 8 - $400
X-ALT-DESC;FMTTYPE=text/html:<strong><span style="font-size: 14px">Join us at Chamber Government Day<br />\nFeaturing Governor John Kasich</span></strong><br />\n<br />\nRenaissance Columbus Downtown<br />\n50 Third Street<br />\nColumbus<br />\n<br />\nIndividual Tickets $50<br />\nTable of 8 - $400<br />\n<br />\n
LOCATION:Renaissance Columbus Downtown 50 North Third Street Columbus
UID:e.304.790
SEQUENCE:3
DTSTAMP:20260420T130642Z
URL:https://cm.newalbanychamber.com/events/details/chamber-government-day-04-08-2011-790
END:VEVENT

END:VCALENDAR
