BEGIN:VCALENDAR
VERSION:2.0
PRODID:-//ChamberMaster//Event Calendar 2.0//EN
METHOD:PUBLISH
X-PUBLISHED-TTL:P3D
REFRESH-INTERVAL:P3D
CALSCALE:GREGORIAN
BEGIN:VEVENT
DTSTART;VALUE=DATE:20080619
DTEND;VALUE=DATE:20080620
TRANSP:TRANSPARENT
X-MICROSOFT-CDO-ALLDAYEVENT:TRUE
SUMMARY:Chamber Lunch
DESCRIPTION:Monthly Chamber Lunch"New Trends in Communication"Join us to learn the new trends in the communication field and how to maximize these trends and updates to your business Meeting Sponsor will be ELConcept\, LLC.
X-ALT-DESC;FMTTYPE=text/html:<div>Monthly Chamber Lunch</div><div>&quot\;New Trends in Communication&quot\;</div><div>Join us to learn the new trends in the communication field and how to maximize these trends and updates to your business</div><div>&nbsp\;</div><div>Meeting Sponsor will be ELConcept\, LLC.</div>
LOCATION:Little Turtle Country ClubLittle Turtle Way\, Westerville
UID:e.304.191
SEQUENCE:3
DTSTAMP:20260422T161022Z
URL:https://cm.newalbanychamber.com/events/details/chamber-lunch-06-19-2008-191
END:VEVENT

END:VCALENDAR
