BEGIN:VCALENDAR
VERSION:2.0
PRODID:-//ChamberMaster//Event Calendar 2.0//EN
METHOD:PUBLISH
X-PUBLISHED-TTL:P3D
REFRESH-INTERVAL:P3D
CALSCALE:GREGORIAN
BEGIN:VEVENT
DTSTART:20081016T153000Z
DTEND:20081016T170000Z
X-MICROSOFT-CDO-ALLDAYEVENT:FALSE
SUMMARY:Chamber Luncheon
DESCRIPTION:Chamber Luncheon"What is at Stake for Ohio Businesses in the Election?Guest speaker\, from the Ohio ChamberKeith Lake\, director of the P.a.C.E.
X-ALT-DESC;FMTTYPE=text/html:<div><strong><font size="2">Chamber Luncheon</font></strong></div><div><strong><font size="2">&quot\;What is at Stake for Ohio Businesses in the Election?</font></strong></div><div><strong><font size="2">Guest speaker\, from the Ohio Chamber</font></strong></div><div><strong><font size="2">Keith Lake\, director of the P.a.C.E.</font></strong></div>
LOCATION:Flanagan's Pub3001 Reynoldsburg-New Albany Rd.Rt. 605
UID:e.304.321
SEQUENCE:3
DTSTAMP:20260422T101721Z
URL:https://cm.newalbanychamber.com/events/details/chamber-luncheon-10-16-2008-321
END:VEVENT

END:VCALENDAR
