BEGIN:VCALENDAR
VERSION:2.0
PRODID:-//ChamberMaster//Event Calendar 2.0//EN
METHOD:PUBLISH
X-PUBLISHED-TTL:P3D
REFRESH-INTERVAL:P3D
CALSCALE:GREGORIAN
BEGIN:VEVENT
DTSTART;VALUE=DATE:20080724
DTEND;VALUE=DATE:20080725
TRANSP:TRANSPARENT
X-MICROSOFT-CDO-ALLDAYEVENT:TRUE
SUMMARY:Chamber Mixer
DESCRIPTION:Chamber Mixer and New Member OrientationSummer Mixer hosted by the New Albany and Gahanna Chambers of Commerce . Chamber Mixer - Come and join us for a great networking opportunity.  Meet the men and women that enjoy doing business in the New Albany area. New Member Orientation 4:00-4:30 in the upstairs private room - whether you are a new business or representative that has joined an existing member company\, join us for an informative session on how to utilitze your benefits to grow your business.  Meet other company representatives that enjoy doing business in the New Albany area.Please RSVP if you plan to attend the new member orientation to 855-4400.
X-ALT-DESC;FMTTYPE=text/html:<div><strong>Chamber Mixer and New Member Orientation</strong></div><div><strong><font color="#0000ff">Summer Mixer hosted by the New Albany and Gahanna Chambers of Commerce</font></strong>&nbsp\;.</div><div>&nbsp\;</div><div><strong>Chamber Mixer</strong> - Come and join us for a great networking opportunity.&nbsp\; Meet the men and women that enjoy doing business in the New Albany area.</div><div>&nbsp\;</div><div><strong>New Member Orientation 4:00-4:30 in the upstairs private room</strong>&nbsp\;- whether you are a new business or representative that has joined an existing member company\, join us for an informative session on how to utilitze your benefits to grow your business.&nbsp\; Meet other company representatives that enjoy doing business in the New Albany area.</div><div><font color="#0000ff"><strong>Please RSVP if you plan to attend the new member orientation to 855-4400.</strong></font></div>
LOCATION:Hoggy's Bar and Grille1370 E Johnstown RdGahanna\, OH 43230
UID:e.304.196
SEQUENCE:3
DTSTAMP:20260422T143612Z
URL:https://cm.newalbanychamber.com/events/details/chamber-mixer-07-24-2008-196
END:VEVENT

END:VCALENDAR
