BEGIN:VCALENDAR
VERSION:2.0
PRODID:-//ChamberMaster//Event Calendar 2.0//EN
METHOD:PUBLISH
X-PUBLISHED-TTL:P3D
REFRESH-INTERVAL:P3D
CALSCALE:GREGORIAN
BEGIN:VEVENT
DTSTART:20110317T153000Z
DTEND:20110317T170000Z
X-MICROSOFT-CDO-ALLDAYEVENT:FALSE
SUMMARY:Chamber Monthly Luncheon
DESCRIPTION:Chamber Monthly Luncheon\n\n"Top Time Management Tips"\n\nwith Guest Speaker-Robert Cich
X-ALT-DESC;FMTTYPE=text/html:<strong><span style="font-size: 14px">Chamber Monthly Luncheon<br />\n&quot\;Top Time&nbsp\;Management Tips&quot\;<br />\nwith Guest Speaker-Robert Cich</span></strong>
LOCATION:Hampton Inn & Suites at Easton 4150 Stelzer Rd. Columbus\, Ohio
UID:e.304.768
SEQUENCE:3
DTSTAMP:20260420T130549Z
URL:https://cm.newalbanychamber.com/events/details/chamber-monthly-luncheon-03-17-2011-768
END:VEVENT

END:VCALENDAR
