BEGIN:VCALENDAR
VERSION:2.0
PRODID:-//ChamberMaster//Event Calendar 2.0//EN
METHOD:PUBLISH
X-PUBLISHED-TTL:P3D
REFRESH-INTERVAL:P3D
CALSCALE:GREGORIAN
BEGIN:VEVENT
DTSTART:20100819T153000Z
DTEND:20100819T170000Z
X-MICROSOFT-CDO-ALLDAYEVENT:FALSE
SUMMARY:Chamber Monthly Luncheon
DESCRIPTION:Monthly Chamber Luncheon"Fast Forty Networking:Tutor Time Learning CenterWoodcrest Dr.\, New Albany
X-ALT-DESC;FMTTYPE=text/html:<div><strong>Monthly Chamber Luncheon</strong></div><div><strong>&quot\;Fast Forty Networking:</strong></div><div>Tutor Time Learning Center</div><div>Woodcrest Dr.\, New Albany</div><div>&nbsp\;</div><div>&nbsp\;</div>
LOCATION:Tutor Time Learning CenterWoodcrest Dr.\, New Albany
UID:e.304.680
SEQUENCE:3
DTSTAMP:20260421T002820Z
URL:https://cm.newalbanychamber.com/events/details/chamber-monthly-luncheon-08-19-2010-680
END:VEVENT

END:VCALENDAR
