BEGIN:VCALENDAR
VERSION:2.0
PRODID:-//ChamberMaster//Event Calendar 2.0//EN
METHOD:PUBLISH
X-PUBLISHED-TTL:P3D
REFRESH-INTERVAL:P3D
CALSCALE:GREGORIAN
BEGIN:VEVENT
DTSTART:20100520T114500Z
DTEND:20100520T130000Z
X-MICROSOFT-CDO-ALLDAYEVENT:FALSE
SUMMARY:Chamber Monthly Meeting
DESCRIPTION:You are invited to join us to experience "Google with Attitude" with guest speaker\, Ted Janusz of Janus Presenrtations.  Did you know that you can also use google to get Photographs and other images\, 3-D maps and directions\, Movie times\, restaurant reviews\, and language translators?  These points and more will be topics of the presentation.\n\n\n\nMeeting Sponsor:  Epcon Communities
X-ALT-DESC;FMTTYPE=text/html:You are invited to join us to experience "Google with Attitude" with guest speaker\, Ted Janusz of Janus Presenrtations.  Did you know that you can also use google to get Photographs and other images\, 3-D maps and directions\, Movie times\, restaurant reviews\, and language translators?  These points and more will be topics of the presentation.\n<br>\n<br>Meeting Sponsor:  Epcon Communities
LOCATION:Woods at Sugar Run 5545 Armstead Avenue New Albany\, Ohio 43054
UID:e.304.648
SEQUENCE:3
DTSTAMP:20260421T053404Z
URL:https://cm.newalbanychamber.com/events/details/chamber-monthly-meeting-05-20-2010-648
END:VEVENT

END:VCALENDAR
