BEGIN:VCALENDAR
VERSION:2.0
PRODID:-//ChamberMaster//Event Calendar 2.0//EN
METHOD:PUBLISH
X-PUBLISHED-TTL:P3D
REFRESH-INTERVAL:P3D
CALSCALE:GREGORIAN
BEGIN:VEVENT
DTSTART:20100617T153000Z
DTEND:20100617T170000Z
X-MICROSOFT-CDO-ALLDAYEVENT:FALSE
SUMMARY:Chamber Monthly Meeting
DESCRIPTION:Chamber Monthly MeetingThursday\, June 17th11:30 - 1:00Royal American Links Golf Club"Cost Containment" Afternoon Golf Available:9 Holes with Cart - $25.00 per golfer18 Holes with Cart - $35.00 per golferTo schedule tee times after luncheon call: 740-965-1215Please mention "Chamber member" Meeting Sponsor:Masters Insurance Group - Greg Masters4466 Morse RoadPh. 471-7676
X-ALT-DESC;FMTTYPE=text/html:<div><strong>Chamber Monthly Meeting</strong></div><div><strong>Thursday\, June 17th</strong></div><div>11:30 - 1:00</div><div>Royal American Links Golf Club</div><div>&quot\;Cost Containment&quot\;</div><div>&nbsp\;</div><div><strong><u>Afternoon Golf Available:</u></strong></div><div>9 Holes with Cart - $25.00 per golfer</div><div>18 Holes with Cart - $35.00 per golfer</div><div>To schedule tee times after luncheon call: 740-965-1215</div><div>Please mention &quot\;Chamber member&quot\;</div><div>&nbsp\;</div><div><strong><u>Meeting Sponsor:</u></strong></div><div>Masters Insurance Group - Greg Masters</div><div>4466 Morse Road</div><div>Ph. 471-7676</div>
LOCATION:Royal American Links Golf Club3300 Miller Paul Rd.Galena\, Ohio 43021
UID:e.304.655
SEQUENCE:3
DTSTAMP:20260421T051758Z
URL:https://cm.newalbanychamber.com/events/details/chamber-monthly-meeting-06-17-2010-655
END:VEVENT

END:VCALENDAR
