BEGIN:VCALENDAR
VERSION:2.0
PRODID:-//ChamberMaster//Event Calendar 2.0//EN
METHOD:PUBLISH
X-PUBLISHED-TTL:P3D
REFRESH-INTERVAL:P3D
CALSCALE:GREGORIAN
BEGIN:VEVENT
DTSTART;VALUE=DATE:20080821
DTEND;VALUE=DATE:20080822
TRANSP:TRANSPARENT
X-MICROSOFT-CDO-ALLDAYEVENT:TRUE
SUMMARY:Chamber Network Lunch
DESCRIPTION:Monthly Chamber  LuncheonFast 40 Network
X-ALT-DESC;FMTTYPE=text/html:<div><font size="2"><strong>Monthly Chamber&nbsp\; Luncheon</strong></font></div><div><font size="2"><strong>Fast 40 Network</strong></font></div>
LOCATION:Gameworks at Easton165 Easton Town Center
UID:e.304.198
SEQUENCE:3
DTSTAMP:20260422T131013Z
URL:https://cm.newalbanychamber.com/events/details/chamber-network-lunch-08-21-2008-198
END:VEVENT

END:VCALENDAR
