BEGIN:VCALENDAR
VERSION:2.0
PRODID:-//ChamberMaster//Event Calendar 2.0//EN
METHOD:PUBLISH
X-PUBLISHED-TTL:P3D
REFRESH-INTERVAL:P3D
CALSCALE:GREGORIAN
BEGIN:VEVENT
DTSTART;VALUE=DATE:20100801
DTEND;VALUE=DATE:20100802
TRANSP:TRANSPARENT
X-MICROSOFT-CDO-ALLDAYEVENT:TRUE
SUMMARY:Chamber Renewals Due Today!
DESCRIPTION:Yearly Chamber Renewals due today! Don't let your investment in your chamber lapse. All members must renew to be included in the upcoming Community Guide\, distributed to over 9\,000 homes in the New Albany Area.Call 855-4400 or register on-line.
X-ALT-DESC;FMTTYPE=text/html:<div><em><strong><span style="font-size: small">Yearly Chamber Renewals due today!</span></strong></em></div><div>&nbsp\;</div><div><em><strong><span style="font-size: small">Don't let your investment in your chamber lapse. </span></strong></em></div><div><em><strong><span style="font-size: small">All members must renew to be included in the upcoming Community Guide\, distributed to over 9\,000 homes in the New Albany Area.</span></strong></em></div><div><em><strong><span style="font-size: small">Call 855-4400 or register on-line.</span></strong></em></div>
LOCATION:
UID:e.304.659
SEQUENCE:3
DTSTAMP:20260421T004013Z
URL:https://cm.newalbanychamber.com/events/details/chamber-renewals-due-today-08-01-2010-659
END:VEVENT

END:VCALENDAR
