BEGIN:VCALENDAR
VERSION:2.0
PRODID:-//ChamberMaster//Event Calendar 2.0//EN
METHOD:PUBLISH
X-PUBLISHED-TTL:P3D
REFRESH-INTERVAL:P3D
CALSCALE:GREGORIAN
BEGIN:VEVENT
DTSTART:20101216T163000Z
DTEND:20101216T180000Z
X-MICROSOFT-CDO-ALLDAYEVENT:FALSE
SUMMARY:Chamber's Holiday Luncheon & Annual Meeting
DESCRIPTION:New Albany's Holiday Luncheon and Annual Meeting\n\n	Come and celebrate the holidays with fellow chamber members\, while we recognize our special guests and Board of Trustees.
X-ALT-DESC;FMTTYPE=text/html:<div>\n	<strong><span style="font-size: 16px">New Albany&#39\;s Holiday Luncheon and Annual Meeting<br />\n	<span style="font-size: 14px">Come and celebrate the holidays with fellow chamber members\, while we recognize our special guests and Board of Trustees.</span></span></strong></div>\n
LOCATION:The Now Center at Faith Full Family Life Church 2407 Beech Road P.O. Box 779 Johnstown\, Ohio just East of New Albany. Exit at the Beech Road Exit. Turn left at the light and continue 1/2 mile on Beech. Just past Smith Mill Rd. on the left. In the Eastern most part of the business campus. Sponsor: The Joseph Group Capital Management
UID:e.304.683
SEQUENCE:3
DTSTAMP:20260420T175437Z
URL:https://cm.newalbanychamber.com/events/details/chamber-s-holiday-luncheon-annual-meeting-12-16-2010-683
END:VEVENT

END:VCALENDAR
