BEGIN:VCALENDAR
VERSION:2.0
PRODID:-//ChamberMaster//Event Calendar 2.0//EN
METHOD:PUBLISH
X-PUBLISHED-TTL:P3D
REFRESH-INTERVAL:P3D
CALSCALE:GREGORIAN
BEGIN:VEVENT
DTSTART:20091014T220000Z
DTEND:20091015T020000Z
X-MICROSOFT-CDO-ALLDAYEVENT:FALSE
SUMMARY:Charity Auction & Dinner by the New Albany Noon Lions Club
DESCRIPTION:Some of the items offered at the silent & live auctions include: a Big 10/OSU football signed by Archie Griffith\, 2 tickets OSU/Minnesota game\, antiques\, gift cards/certificates\, furniture\, & art & craft items.  Chicken breast dinner\, home baked dessert & beverage. \nDinner reservations & payment by 10/09/09.  \nProceeds to Benefit the New Albany Lions Club Charitable Projects
X-ALT-DESC;FMTTYPE=text/html:Some of the items offered at the silent & live auctions include: a Big 10/OSU football signed by Archie Griffith\, 2 tickets OSU/Minnesota game\, antiques\, gift cards/certificates\, furniture\, & art & craft items.  Chicken breast dinner\, home baked dessert & beverage. \nDinner reservations & payment by 10/09/09.  \nProceeds to Benefit the New Albany Lions Club Charitable Projects 
LOCATION:5089 Johnstown Road\, New Albany at Temple Beth Shalome (1/2 mile north of the Morse Road Round-a-Bout)
UID:e.304.505
SEQUENCE:3
DTSTAMP:20260421T161350Z
URL:https://cm.newalbanychamber.com/events/details/charity-auction-dinner-by-the-new-albany-noon-lions-club-10-14-2009-505
END:VEVENT

END:VCALENDAR
