BEGIN:VCALENDAR
VERSION:2.0
PRODID:-//ChamberMaster//Event Calendar 2.0//EN
METHOD:PUBLISH
X-PUBLISHED-TTL:P3D
REFRESH-INTERVAL:P3D
CALSCALE:GREGORIAN
BEGIN:VEVENT
DTSTART;VALUE=DATE:20081114
DTEND;VALUE=DATE:20081115
TRANSP:TRANSPARENT
X-MICROSOFT-CDO-ALLDAYEVENT:TRUE
SUMMARY:Cheryl&Co. Holiday gift Preview Party
DESCRIPTION:The Cheryl&Co. Holiday Preview Party allows a sneak peak at the upcoming holiday gifts. We will have samples and tastings of different products through out the day.\n\nA 20% discount is available on all items (excluding "Buy 1\, get 1 free" and clearance items). \n\nA wonderful time to place your holiday order for your friends\, family or business partners\, and take advantage of this promotion!
X-ALT-DESC;FMTTYPE=text/html:The Cheryl&Co. Holiday Preview Party allows a sneak peak at the upcoming holiday gifts. We will have samples and tastings of different products through out the day.\n\nA 20% discount is available on all items (excluding "Buy 1\, get 1 free" and clearance items). \n\nA wonderful time to place your holiday order for your friends\, family or business partners\, and take advantage of this promotion!
LOCATION:Cheryl&Co. retail store in Easton Mall. In the main building\, on the upper level facing the Food Court.
UID:e.304.251
SEQUENCE:3
DTSTAMP:20260422T084404Z
URL:https://cm.newalbanychamber.com/events/details/cheryl-co-holiday-gift-preview-party-11-14-2008-251
END:VEVENT

END:VCALENDAR
