BEGIN:VCALENDAR
VERSION:2.0
PRODID:-//ChamberMaster//Event Calendar 2.0//EN
METHOD:PUBLISH
X-PUBLISHED-TTL:P3D
REFRESH-INTERVAL:P3D
CALSCALE:GREGORIAN
BEGIN:VEVENT
DTSTART:20100227T120000Z
DTEND:20100227T210000Z
X-MICROSOFT-CDO-ALLDAYEVENT:FALSE
SUMMARY:Cheryl & Company 2010 Bake Sale
DESCRIPTION:Cheryl & Company Annual 2010 Bake saleOne day only stock up to 70% off.Cookies\, dough balls\, gifts\, gourmet goods and keepsakes all offered.
X-ALT-DESC;FMTTYPE=text/html:<div><strong><span style="font-size: x-small">Cheryl &amp\; Company Annual 2010 Bake sale</span></strong></div><div><strong><span style="font-size: x-small">One day only stock up to 70% off.</span></strong></div><div>Cookies\, dough balls\, gifts\, gourmet goods and keepsakes all offered.</div>
LOCATION:1220 County Line RdWesterville\, Ohioat the Windsor Bay Shopping Center
UID:e.304.574
SEQUENCE:3
DTSTAMP:20260421T102757Z
URL:https://cm.newalbanychamber.com/events/details/cheryl-company-2010-bake-sale-02-27-2010-574
END:VEVENT

END:VCALENDAR
