BEGIN:VCALENDAR
VERSION:2.0
PRODID:-//ChamberMaster//Event Calendar 2.0//EN
METHOD:PUBLISH
X-PUBLISHED-TTL:P3D
REFRESH-INTERVAL:P3D
CALSCALE:GREGORIAN
BEGIN:VEVENT
DTSTART:20110305T120000Z
DTEND:20110305T200000Z
X-MICROSOFT-CDO-ALLDAYEVENT:FALSE
SUMMARY:Cheryl's Bake Sale
DESCRIPTION:Cheryl's Cookie Bake Sale\n\n	One Day only!\n\n	Cookies\, Gifts\, Dough Balls\, Gourmet Goods and keepsakes\n\n	\n\n	Stock up and Save!\n\n	\n\n	Up to 70% off retail\n\n	Bring this ad for a free cookie
X-ALT-DESC;FMTTYPE=text/html:<p>\n	<strong><span style="font-size: 14px">Cheryl&#39\;s Cookie Bake Sale<br />\n	One Day only!<br />\n	Cookies\, Gifts\, Dough Balls\, Gourmet Goods and keepsakes</span></strong><br />\n	<br />\n	<strong>Stock up and Save!</strong><br />\n	<br />\n	<strong>Up to 70% off retail<br />\n	Bring this ad for a free cookie</strong></p>\n
LOCATION:1220 COUNTY LINE ROAD WESTERVILLE AT THE WINDSOR BAY SHOPPING CENTER
UID:e.304.764
SEQUENCE:3
DTSTAMP:20260420T130725Z
URL:https://cm.newalbanychamber.com/events/details/cheryl-s-bake-sale-03-05-2011-764
END:VEVENT

END:VCALENDAR
