BEGIN:VCALENDAR
VERSION:2.0
PRODID:-//ChamberMaster//Event Calendar 2.0//EN
METHOD:PUBLISH
X-PUBLISHED-TTL:P3D
REFRESH-INTERVAL:P3D
CALSCALE:GREGORIAN
BEGIN:VEVENT
DTSTART;VALUE=DATE:20110526
DTEND;VALUE=DATE:20110527
TRANSP:TRANSPARENT
X-MICROSOFT-CDO-ALLDAYEVENT:TRUE
SUMMARY:Chi Thai Eagle Fundraiser
DESCRIPTION:Chi Thai Fundraiser helps support New Albany Athletics.\n\nDine in or Carry Out and 20% of all orders will support NA Athletics. That includes Eagles of all ages.\n\nYou can also visit www.firstclassfield.org and click on Chi Thai Fundraiser.
X-ALT-DESC;FMTTYPE=text/html:Chi Thai Fundraiser helps support New Albany Athletics.<br />\nDine in or Carry Out and 20% of all orders will support NA Athletics. That includes Eagles of all ages.<br />\nYou can also visit <a href="http://www.firstclassfield.org">www.firstclassfield.org</a> and click on Chi Thai Fundraiser.
LOCATION:Chi Thai Restaurant 5577 Hamilton Road Columbus\, Ohio 43230
UID:e.304.806
SEQUENCE:3
DTSTAMP:20260420T095445Z
URL:https://cm.newalbanychamber.com/events/details/chi-thai-eagle-fundraiser-05-26-2011-806
END:VEVENT

END:VCALENDAR
