BEGIN:VCALENDAR
VERSION:2.0
PRODID:-//ChamberMaster//Event Calendar 2.0//EN
METHOD:PUBLISH
X-PUBLISHED-TTL:P3D
REFRESH-INTERVAL:P3D
CALSCALE:GREGORIAN
BEGIN:VEVENT
DTSTART:20080316T000000Z
DTEND:20080316T020000Z
X-MICROSOFT-CDO-ALLDAYEVENT:FALSE
SUMMARY:Chick Corea and Bela Fleck
DESCRIPTION:Touring together for the first time\, Chick Corea and BÃ©la Fleck are two master musicians who weave duets out of staggering virtuosity\, creating mind-blowing magic performances. BÃ©la Fleck\, a winner of eight Grammy Awards\, is considered the world?s premier banjo player. He lives to improvise and loves to work with unexpected musical fusions. Chick Corea?s restless creativity knows no bounds. His career is the stuff of jazz lore\, a fusion of influential\, limit-stretching\, genre-bending musical experiences that have garnered him 12 Grammy awards and legions of fans worldwide. Don?t miss what these artists can do together when their two musical worlds collide on Saturday\, March 15\, 2008 at 8 p.m.!
X-ALT-DESC;FMTTYPE=text/html:Touring together for the first time\, Chick Corea and BÃ©la Fleck are two master musicians who weave duets out of staggering virtuosity\, creating mind-blowing magic performances. BÃ©la Fleck\, a winner of eight Grammy Awards\, is considered the world?s premier banjo player. He lives to improvise and loves to work with unexpected musical fusions. Chick Corea?s restless creativity knows no bounds. His career is the stuff of jazz lore\, a fusion of influential\, limit-stretching\, genre-bending musical experiences that have garnered him 12 Grammy awards and legions of fans worldwide. Don?t miss what these artists can do together when their two musical worlds collide on Saturday\, March 15\, 2008 at 8 p.m.!   
LOCATION:Jeanne B. McCoy Community Center for the Arts
UID:e.304.206
SEQUENCE:3
DTSTAMP:20260422T202223Z
URL:https://cm.newalbanychamber.com/events/details/chick-corea-and-bela-fleck-03-15-2008-206
END:VEVENT

END:VCALENDAR
