BEGIN:VCALENDAR
VERSION:2.0
PRODID:-//ChamberMaster//Event Calendar 2.0//EN
METHOD:PUBLISH
X-PUBLISHED-TTL:P3D
REFRESH-INTERVAL:P3D
CALSCALE:GREGORIAN
BEGIN:VEVENT
DTSTART:20090718T160000Z
DTEND:20090718T160000Z
X-MICROSOFT-CDO-ALLDAYEVENT:FALSE
SUMMARY:Children's Body-Image Foundation's Charity Golf ''Scramble''
DESCRIPTION:Children?s Body-Image Foundation?s 1st Annual Charity Golf ?scramble? Fundraiser scheduled for Saturday\, July 18\, 2009 at The Minerva Lake Golf Club! Great prizes to include prize packs for 1st and 2nd place foursome\, $200.00 giftcard\, golf clubs\, and more! Each golfer to receive a welcome pack. Autograph memorabilia available for purchase\, raffles\, and other prizes! Come out and have a great time! Tee times will be given once you register.
X-ALT-DESC;FMTTYPE=text/html:Children?s Body-Image Foundation?s 1st Annual Charity Golf ?scramble? Fundraiser scheduled for Saturday\, July 18\, 2009 at The Minerva Lake Golf Club! Great prizes to include prize packs for 1st and 2nd place foursome\, $200.00 giftcard\, golf clubs\, and more! Each golfer to receive a welcome pack. Autograph memorabilia available for purchase\, raffles\, and other prizes! Come out and have a great time! Tee times will be given once you register.  
LOCATION:Minerva Lake Golf Club 2955 Minerva Lake Rd. Columbus\, OH 43231 614-882-9988
UID:e.304.457
SEQUENCE:3
DTSTAMP:20260421T220128Z
URL:https://cm.newalbanychamber.com/events/details/children-s-body-image-foundation-s-charity-golf-scramble-07-18-2009-457
END:VEVENT

END:VCALENDAR
