BEGIN:VCALENDAR
VERSION:2.0
PRODID:-//ChamberMaster//Event Calendar 2.0//EN
METHOD:PUBLISH
X-PUBLISHED-TTL:P3D
REFRESH-INTERVAL:P3D
CALSCALE:GREGORIAN
BEGIN:VEVENT
DTSTART;VALUE=DATE:20080715
DTEND;VALUE=DATE:20080718
TRANSP:TRANSPARENT
X-MICROSOFT-CDO-ALLDAYEVENT:TRUE
SUMMARY:Christmas in July Toy Drive
DESCRIPTION:Come celebrate the 1st annual CHRISTMAS IN JULY TOY DRIVE at Keystone Chiropractic Center from July 15?17th.  Please help our office & the Make-A-Wish Foundation stock up the toy closet for children in need.  \n     We are offering our services FREE of charge to new patients.  These services include a consultation\, exam\, and x-rays when you bring in at least one new toy.  Call (614) 475-1900 to schedule your appointment today and help make a wish happen this summer! \n\nFor more information about the Make-A-Wish Foundation call \n(614) 923-0555\, or visit www.makeawishohio.org
X-ALT-DESC;FMTTYPE=text/html:    Come celebrate the 1st annual CHRISTMAS IN JULY TOY DRIVE at Keystone Chiropractic Center from July 15?17th.  Please help our office & the Make-A-Wish Foundation stock up the toy closet for children in need.  \n     We are offering our services FREE of charge to new patients.  These services include a consultation\, exam\, and x-rays when you bring in at least one new toy.  Call (614) 475-1900 to schedule your appointment today and help make a wish happen this summer! \n\nFor more information about the Make-A-Wish Foundation call \n(614) 923-0555\, or visit www.makeawishohio.org \n
LOCATION:KEYSTONE CHIROPRACTIC
UID:e.304.245
SEQUENCE:3
DTSTAMP:20260422T144048Z
URL:https://cm.newalbanychamber.com/events/details/christmas-in-july-toy-drive-07-15-2008-245
END:VEVENT

END:VCALENDAR
