BEGIN:VCALENDAR
VERSION:2.0
PRODID:-//ChamberMaster//Event Calendar 2.0//EN
METHOD:PUBLISH
X-PUBLISHED-TTL:P3D
REFRESH-INTERVAL:P3D
CALSCALE:GREGORIAN
BEGIN:VEVENT
DTSTART:20091031T150000Z
DTEND:20091031T180000Z
X-MICROSOFT-CDO-ALLDAYEVENT:FALSE
SUMMARY:Church of the Resurrection 3rd Annual Knit-In
DESCRIPTION:Church of the Resurrection Prayer Shawl Ministry 3rd Annual Knit In\nDrop in and knit or chrochet with us for all or part of the day.  It's a wonderful opportunity to build community and make a difference as we convert yarn into woolen works of love.\nWe'll have Prayer\, Prizes\, Desserts and more. Bring a brown bag lunch and your needles\, hooks\, and yarn.  Everyone is welcome!
X-ALT-DESC;FMTTYPE=text/html:Church of the Resurrection Prayer Shawl Ministry 3rd Annual Knit In\nDrop in and knit or chrochet with us for all or part of the day.  It's a wonderful opportunity to build community and make a difference as we convert yarn into woolen works of love.\nWe'll have Prayer\, Prizes\, Desserts and more. Bring a brown bag lunch and your needles\, hooks\, and yarn.  Everyone is welcome!
LOCATION:Church of the Resurrection Social Hall - 6300 E. Dublin Granville Rd.\, New Albany
UID:e.304.491
SEQUENCE:3
DTSTAMP:20260421T171427Z
URL:https://cm.newalbanychamber.com/events/details/church-of-the-resurrection-3rd-annual-knit-in-10-31-2009-491
END:VEVENT

END:VCALENDAR
