BEGIN:VCALENDAR
VERSION:2.0
PRODID:-//ChamberMaster//Event Calendar 2.0//EN
METHOD:PUBLISH
X-PUBLISHED-TTL:P3D
REFRESH-INTERVAL:P3D
CALSCALE:GREGORIAN
BEGIN:VEVENT
DTSTART;VALUE=DATE:20080301
DTEND;VALUE=DATE:20080302
TRANSP:TRANSPARENT
X-MICROSOFT-CDO-ALLDAYEVENT:TRUE
SUMMARY:Cinderella by NA Ballet
DESCRIPTION:Cinderella presented by the New Albany Ballet Company
X-ALT-DESC;FMTTYPE=text/html:<div>Cinderella presented by the New Albany Ballet Company</div>
LOCATION:Schottenstein Center555 Borrow Dr.Columbus\, OH 43210
UID:e.304.186
SEQUENCE:3
DTSTAMP:20260422T202351Z
URL:https://cm.newalbanychamber.com/events/details/cinderella-by-na-ballet-03-01-2008-186
END:VEVENT

END:VCALENDAR
