BEGIN:VCALENDAR
VERSION:2.0
PRODID:-//ChamberMaster//Event Calendar 2.0//EN
METHOD:PUBLISH
X-PUBLISHED-TTL:P3D
REFRESH-INTERVAL:P3D
CALSCALE:GREGORIAN
BEGIN:VEVENT
DTSTART:20100618T230000Z
DTEND:20100619T010000Z
X-MICROSOFT-CDO-ALLDAYEVENT:FALSE
SUMMARY:Circle of Friends Run for the Rainbow
DESCRIPTION:5k run/walk and kids fun run\n\nCharity Run/Event raising $$$ for Nationwide Children's Hospital Pediatric Cancer Research
X-ALT-DESC;FMTTYPE=text/html:5k run/walk and kids fun run\n<br>Charity Run/Event raising $$$ for Nationwide Children's Hospital Pediatric Cancer Research
LOCATION:New Albany Market Square(start & finish) and New Albany Community
UID:e.304.571
SEQUENCE:3
DTSTAMP:20260421T050439Z
URL:https://cm.newalbanychamber.com/events/details/circle-of-friends-run-for-the-rainbow-06-18-2010-571
END:VEVENT

END:VCALENDAR
