BEGIN:VCALENDAR
VERSION:2.0
PRODID:-//ChamberMaster//Event Calendar 2.0//EN
METHOD:PUBLISH
X-PUBLISHED-TTL:P3D
REFRESH-INTERVAL:P3D
CALSCALE:GREGORIAN
BEGIN:VEVENT
DTSTART:20080510T130000Z
DTEND:20080510T160000Z
X-MICROSOFT-CDO-ALLDAYEVENT:FALSE
SUMMARY:Clain Your Spotlight
DESCRIPTION:Claim Your Spotlight - Marketing/PR event...Here's What You'll Learn:\n\n\nHow to write a press release (even you?re not a writer) that will get read by the media. \nThe top 5 things to do and not to do when following up and building relationships with the media \nHow to determine your target media and create your plan of action \nHow to determine if you need a PR specialist or not (Not everyone does!) \nThe 5 deadly business mistakes made by entrepreneurs \nThe 2 main roles of all entrepreneurs \nThe #1 way to ensure success in your business \nThe easy way to build multiple streams of income to leverage your time\, knowledge and expertise!\n\nMuch\, much more!\n\nCome prepared to take lots of notes... you will even walk out with a ready to use press release and your plan to start creating multiple streams of income!
X-ALT-DESC;FMTTYPE=text/html:Claim Your Spotlight - Marketing/PR event...Here's What You'll Learn:\n\n\nHow to write a press release (even you?re not a writer) that will get read by the media. \nThe top 5 things to do and not to do when following up and building relationships with the media \nHow to determine your target media and create your plan of action \nHow to determine if you need a PR specialist or not (Not everyone does!) \nThe 5 deadly business mistakes made by entrepreneurs \nThe 2 main roles of all entrepreneurs \nThe #1 way to ensure success in your business \nThe easy way to build multiple streams of income to leverage your time\, knowledge and expertise!\n\nMuch\, much more!\n\nCome prepared to take lots of notes... you will even walk out with a ready to use press release and your plan to start creating multiple streams of income!\n\n
LOCATION:UlitmateU Total Health
UID:e.304.227
SEQUENCE:3
DTSTAMP:20260422T174649Z
URL:https://cm.newalbanychamber.com/events/details/clain-your-spotlight-05-10-2008-227
END:VEVENT

END:VCALENDAR
