BEGIN:VCALENDAR
VERSION:2.0
PRODID:-//ChamberMaster//Event Calendar 2.0//EN
METHOD:PUBLISH
X-PUBLISHED-TTL:P3D
REFRESH-INTERVAL:P3D
CALSCALE:GREGORIAN
BEGIN:VEVENT
DTSTART:20091012T020000Z
DTEND:20091011T160000Z
X-MICROSOFT-CDO-ALLDAYEVENT:FALSE
SUMMARY:Clearview Church-Grand Opening
DESCRIPTION:Clearview Church Grand OpeningCome Celebrate with them their new location.10 a.m. Worship gathering11:15 a.m. Family fun.
X-ALT-DESC;FMTTYPE=text/html:<div>Clearview Church Grand Opening</div><div>Come Celebrate with them their new location.</div><div>10 a.m. Worship gathering</div><div>11:15 a.m. Family fun.</div>
LOCATION:New Albany High SchoolMini-Theater7600 Fodor Road\, New Albany
UID:e.304.506
SEQUENCE:3
DTSTAMP:20260421T160229Z
URL:https://cm.newalbanychamber.com/events/details/clearview-church-grand-opening-10-11-2009-506
END:VEVENT

END:VCALENDAR
