BEGIN:VCALENDAR
VERSION:2.0
PRODID:-//ChamberMaster//Event Calendar 2.0//EN
METHOD:PUBLISH
X-PUBLISHED-TTL:P3D
REFRESH-INTERVAL:P3D
CALSCALE:GREGORIAN
BEGIN:VEVENT
DTSTART:20081028T220000Z
DTEND:20081028T230000Z
X-MICROSOFT-CDO-ALLDAYEVENT:FALSE
SUMMARY:Columbus Blue Jackets Gift Tin autograph event
DESCRIPTION:Cheryl & Co. and the Columbus Blue Jackets Foundation are proud to team up as local companies in support of the community.\n\nTogether\, the two have developed a complete Blue Jackets gift collection with the GOAL of giving back. \n\nProceeds from all Blue Jackets branded products will be donated to the Blue Jackets Foundation in support of its mission to fight pediatric cancer\, support education\, keep Central Ohio youth safe and healthy\, and help break the barrier of entry for youth into the sport of hockey.\n\nTo introduce the new items\, players Rostislav Klesle and Pascal Leclaire will be signing the new Columbus Blue Jackets Gift Tin.
X-ALT-DESC;FMTTYPE=text/html:Cheryl & Co. and the Columbus Blue Jackets Foundation are proud to team up as local companies in support of the community.\n\nTogether\, the two have developed a complete Blue Jackets gift collection with the GOAL of giving back. \n\nProceeds from all Blue Jackets branded products will be donated to the Blue Jackets Foundation in support of its mission to fight pediatric cancer\, support education\, keep Central Ohio youth safe and healthy\, and help break the barrier of entry for youth into the sport of hockey.\n\nTo introduce the new items\, players Rostislav Klesle and Pascal Leclaire will be signing the new Columbus Blue Jackets Gift Tin.\n\n
LOCATION:Easton Town Center\, at the interior fountain inside the Easton Station Building
UID:e.304.331
SEQUENCE:3
DTSTAMP:20260422T101919Z
URL:https://cm.newalbanychamber.com/events/details/columbus-blue-jackets-gift-tin-autograph-event-10-28-2008-331
END:VEVENT

END:VCALENDAR
