BEGIN:VCALENDAR
VERSION:2.0
PRODID:-//ChamberMaster//Event Calendar 2.0//EN
METHOD:PUBLISH
X-PUBLISHED-TTL:P3D
REFRESH-INTERVAL:P3D
CALSCALE:GREGORIAN
BEGIN:VEVENT
DTSTART:20100226T223000Z
DTEND:20100227T020000Z
X-MICROSOFT-CDO-ALLDAYEVENT:FALSE
SUMMARY:Columbus Blue Jackets Style Show
DESCRIPTION:Columbus Blue Jacket Style ShowThe Columbus Blue Jackets Foundation and Saks Fifth Avenue will host the Black Tie Blue Jackets Style Show presented by kelly BMW.  This fundraiser will benefit pediatric cancer research. Valet Parking is availableAfter-Five attire (Tuxedos and formal wear not requied) Agenda & Event Information5:30-6:30 p.m. Wine Tasting\, Player Meet & Greet5:30-7:30 p.m. Silent Auction6:30 p.m.          Dinner7:30-9:00 p.m. Style show & Live Auction
X-ALT-DESC;FMTTYPE=text/html:<div><span style="font-size: x-small"><span><span><strong>Columbus Blue Jacket Style Show</strong></span></span></span></div><div>The Columbus Blue Jackets Foundation and Saks Fifth Avenue will host the Black Tie Blue Jackets Style Show presented by kelly BMW.&nbsp\; This fundraiser will benefit pediatric cancer research.</div><div>&nbsp\;</div><div><strong>Valet Parking is available</strong></div><div><strong>After-Five attire (Tuxedos and formal wear not requied)</strong></div><div>&nbsp\;</div><div><strong><span style="font-size: x-small">Agenda &amp\; Event Information</span></strong></div><div>5:30-6:30 p.m.&nbsp\;Wine Tasting\, Player Meet &amp\; Greet</div><div>5:30-7:30 p.m. Silent Auction</div><div>6:30 p.m.&nbsp\;&nbsp\;&nbsp\;&nbsp\;&nbsp\;&nbsp\;&nbsp\;&nbsp\;&nbsp\; Dinner</div><div>7:30-9:00 p.m. Style show &amp\; Live Auction</div><div>&nbsp\;</div>
LOCATION:Hilton Columbus-Polaris8700 Lyra DriveColumbus\, Ohio 43240
UID:e.304.552
SEQUENCE:3
DTSTAMP:20260421T102328Z
URL:https://cm.newalbanychamber.com/events/details/columbus-blue-jackets-style-show-02-26-2010-552
END:VEVENT

END:VCALENDAR
