BEGIN:VCALENDAR
VERSION:2.0
PRODID:-//ChamberMaster//Event Calendar 2.0//EN
METHOD:PUBLISH
X-PUBLISHED-TTL:P3D
REFRESH-INTERVAL:P3D
CALSCALE:GREGORIAN
BEGIN:VEVENT
DTSTART:20090622T213000Z
DTEND:20090622T230000Z
X-MICROSOFT-CDO-ALLDAYEVENT:FALSE
SUMMARY:Communication\, Leadership\, Networking Open House
DESCRIPTION:Want to Increase Your Marketebility? Get that Competitive Edge?  Learn how to Sharpen Your Skills at the Open House at Columbus State Conference Center...\nPresented by District 40 Toastmasters\nMichael Perez\, business owner\, speaker\, coach and former District 40 Governor will show you how Toastmasters has transformed his life and played a significant role in his success in life!  He believes that more than ever the future will belong to those who have the \nability to communicate and lead in an effective manner.\nIf you're a member of Toastmasters you will be reenergized.  If you're not a member you will be ready to sign up.
X-ALT-DESC;FMTTYPE=text/html:Want to Increase Your Marketebility? Get that Competitive Edge?  Learn how to Sharpen Your Skills at the Open House at Columbus State Conference Center...\nPresented by District 40 Toastmasters\nMichael Perez\, business owner\, speaker\, coach and former District 40 Governor will show you how Toastmasters has transformed his life and played a significant role in his success in life!  He believes that more than ever the future will belong to those who have the \nability to communicate and lead in an effective manner.\nIf you're a member of Toastmasters you will be reenergized.  If you're not a member you will be ready to sign up.  \n
LOCATION:Columbus State Conference Center\, 4th floor 315 Cleveland Ave\, Columbus\, OH 43216
UID:e.304.456
SEQUENCE:3
DTSTAMP:20260421T215601Z
URL:https://cm.newalbanychamber.com/events/details/communication-leadership-networking-open-house-06-22-2009-456
END:VEVENT

END:VCALENDAR
