BEGIN:VCALENDAR
VERSION:2.0
PRODID:-//ChamberMaster//Event Calendar 2.0//EN
METHOD:PUBLISH
X-PUBLISHED-TTL:P3D
REFRESH-INTERVAL:P3D
CALSCALE:GREGORIAN
BEGIN:VEVENT
DTSTART:20250517T190000Z
DTEND:20250517T200000Z
X-MICROSOFT-CDO-ALLDAYEVENT:FALSE
SUMMARY:Community Crochet & Knit Group
DESCRIPTION:A group to meet crocheters & knitters and give back to the community! Please bring your own supplies and choose to donate your finished project to the Star House.
X-ALT-DESC;FMTTYPE=text/html:A group to meet crocheters &amp\; knitters and give back to the community! Please bring your own supplies and choose to donate your finished project to the Star House.
LOCATION:New Albany Library 200 Market Street New Albany\, OH 43054
UID:e.304.20279
SEQUENCE:3
DTSTAMP:20260420T221338Z
URL:https://cm.newalbanychamber.com/events/details/community-crochet-knit-group-05-17-2025-20279
END:VEVENT

END:VCALENDAR
