BEGIN:VCALENDAR
VERSION:2.0
PRODID:-//ChamberMaster//Event Calendar 2.0//EN
METHOD:PUBLISH
X-PUBLISHED-TTL:P3D
REFRESH-INTERVAL:P3D
CALSCALE:GREGORIAN
BEGIN:VEVENT
DTSTART;VALUE=DATE:20080322
DTEND;VALUE=DATE:20080323
TRANSP:TRANSPARENT
X-MICROSOFT-CDO-ALLDAYEVENT:TRUE
SUMMARY:Community Egg Hunt
DESCRIPTION:Community Egg HuntSponsored by the Community Events Board
X-ALT-DESC;FMTTYPE=text/html:<div>Community Egg Hunt</div><div>Sponsored by the Community Events Board</div><div>&nbsp\;</div>
LOCATION:The egg hunt will take place at Swickard Woods with a visit from the Easter Bunny in the Wexner Pavillion Shelter house until 3:30.
UID:e.304.173
SEQUENCE:3
DTSTAMP:20260422T202157Z
URL:https://cm.newalbanychamber.com/events/details/community-egg-hunt-03-22-2008-173
END:VEVENT

END:VCALENDAR
