BEGIN:VCALENDAR
VERSION:2.0
PRODID:-//ChamberMaster//Event Calendar 2.0//EN
METHOD:PUBLISH
X-PUBLISHED-TTL:P3D
REFRESH-INTERVAL:P3D
CALSCALE:GREGORIAN
BEGIN:VEVENT
DTSTART:20100403T143000Z
DTEND:20100403T160000Z
X-MICROSOFT-CDO-ALLDAYEVENT:FALSE
SUMMARY:Community Egg Hunt
DESCRIPTION:Community Egg HuntSwickard Woods10:30 a.m.-12:00 p.m. This year's event features vendors\, games\, food\, and a bigger than ever egg hunt with over 15\,000 eggs. Even adults will be excited as their children hunt for 100 special eggs\, containing prizes from our sponsors.  SpringFest is Free to the public\, due to the generosity of presenting sponsor\, ClearView Churc and Associated Orthodontics and Chai Thai Restaurant. For more information: www.newalbanycommunityevents.com or contact Andy: at 578-0676. Sponsored by the Community Events Board
X-ALT-DESC;FMTTYPE=text/html:<div>Community Egg Hunt</div><div>Swickard Woods</div><div>10:30 a.m.-12:00 p.m.</div><div>&nbsp\;</div><div>This year&rsquo\;s event features vendors\, games\, food\, and a bigger than ever egg hunt with over 15\,000 eggs. Even adults will be excited as their children hunt for 100 special eggs\, containing prizes from our sponsors.&nbsp\; SpringFest is Free to the public\, due to the generosity of presenting sponsor\, ClearView Churc and Associated Orthodontics and Chai Thai Restaurant. For more information: <a href="http://www.newalbanycommunityevents.com">www.newalbanycommunityevents.com</a> or contact Andy: at 578-0676.</div><div>&nbsp\;</div><div>Sponsored by the Community Events Board</div>
LOCATION:Swickard Woods10:30 a.m.-12:00 p.m.
UID:e.304.567
SEQUENCE:3
DTSTAMP:20260421T070646Z
URL:https://cm.newalbanychamber.com/events/details/community-egg-hunt-04-03-2010-567
END:VEVENT

END:VCALENDAR
