BEGIN:VCALENDAR
VERSION:2.0
PRODID:-//ChamberMaster//Event Calendar 2.0//EN
METHOD:PUBLISH
X-PUBLISHED-TTL:P3D
REFRESH-INTERVAL:P3D
CALSCALE:GREGORIAN
BEGIN:VEVENT
DTSTART;VALUE=DATE:20080721
DTEND;VALUE=DATE:20080916
TRANSP:TRANSPARENT
X-MICROSOFT-CDO-ALLDAYEVENT:TRUE
SUMMARY:Community Guide Ad Sales Begin
DESCRIPTION:Ad Sales Start for the upcoming Community Guide 2009For more information on placing an ad in the upcoming guide\, call the chamber office at: 614-855-4400.
X-ALT-DESC;FMTTYPE=text/html:<div><strong><font color="#000080" size="2">Ad Sales Start for the upcoming Community Guide 2009</font></strong></div><div><strong><font color="#000080" size="2">For more information on placing an ad in the upcoming guide\, call the chamber office at: 614-855-4400.</font></strong></div>
LOCATION:
UID:e.304.219
SEQUENCE:3
DTSTAMP:20260422T114723Z
URL:https://cm.newalbanychamber.com/events/details/community-guide-ad-sales-begin-07-21-2008-219
END:VEVENT

END:VCALENDAR
