BEGIN:VCALENDAR
VERSION:2.0
PRODID:-//ChamberMaster//Event Calendar 2.0//EN
METHOD:PUBLISH
X-PUBLISHED-TTL:P3D
REFRESH-INTERVAL:P3D
CALSCALE:GREGORIAN
BEGIN:VEVENT
DTSTART:20250514T220000Z
DTEND:20250514T230000Z
X-MICROSOFT-CDO-ALLDAYEVENT:FALSE
SUMMARY:Community Health Talk | Tax Planning for Every Stage
DESCRIPTION:Join the financial professionals at Gilliland Lee Financial Group\, Inc. for an educational workshop covering Taxes in Retirement. Whether you are still exceling at your career\, nearing retirement or already retired\, this workshop will equip you with the most up-to-date and comprehensive information regarding retirement taxation.
X-ALT-DESC;FMTTYPE=text/html:Join the financial professionals at Gilliland Lee Financial Group\, Inc. for an educational workshop covering Taxes in Retirement. Whether you are still exceling at your career\, nearing retirement or already retired\, this workshop will equip you with the most up-to-date and comprehensive information regarding retirement taxation.
LOCATION:Healthy New Albany
UID:e.304.20401
SEQUENCE:3
DTSTAMP:20260420T221436Z
URL:https://cm.newalbanychamber.com/events/details/community-health-talk-tax-planning-for-every-stage-20401
END:VEVENT

END:VCALENDAR
