BEGIN:VCALENDAR
VERSION:2.0
PRODID:-//ChamberMaster//Event Calendar 2.0//EN
METHOD:PUBLISH
X-PUBLISHED-TTL:P3D
REFRESH-INTERVAL:P3D
CALSCALE:GREGORIAN
BEGIN:VEVENT
DTSTART:20100508T130000Z
DTEND:20100508T160000Z
X-MICROSOFT-CDO-ALLDAYEVENT:FALSE
SUMMARY:Community Recycling Day
DESCRIPTION:New Albany Athletic Boosters and New Albany Elementar/MS  Student Council \n\nHost Document/Paper Shredding& Computer Components Recycle Day\n\non-site\, certified document shredding and collection of computers\, VCRs stereo equipment and cell phones. Limit two computer monitors per donation.
X-ALT-DESC;FMTTYPE=text/html:New Albany Athletic Boosters and New Albany Elementar/MS  Student Council \n<br>Host Document/Paper Shredding&amp\; Computer Components Recycle Day\n<br>on-site\, certified document shredding and collection of computers\, VCRs stereo equipment and cell phones. Limit two computer monitors per donation.
LOCATION:New Albany HS/MS Bus Loop 6600 Dublin-Granville Road
UID:e.304.630
SEQUENCE:3
DTSTAMP:20260421T053228Z
URL:https://cm.newalbanychamber.com/events/details/community-recycling-day-05-08-2010-630
END:VEVENT

END:VCALENDAR
