BEGIN:VCALENDAR
VERSION:2.0
PRODID:-//ChamberMaster//Event Calendar 2.0//EN
METHOD:PUBLISH
X-PUBLISHED-TTL:P3D
REFRESH-INTERVAL:P3D
CALSCALE:GREGORIAN
BEGIN:VEVENT
DTSTART:20080918T113000Z
DTEND:20080918T130000Z
X-MICROSOFT-CDO-ALLDAYEVENT:FALSE
SUMMARY:Community Update Breakfast 2008
DESCRIPTION:New Albany Chamber of Commerce Annual Community Update Breakfast\n\nto be held at Commercial Vehicle Group.
X-ALT-DESC;FMTTYPE=text/html:<div><font size="2"><strong>New Albany Chamber of Commerce Annual Community Update Breakfast</strong></font></div>\n\n<div><font size="2"><strong>to be held at Commercial Vehicle Group.</strong></font></div>\n
LOCATION:Commercial Vehicle Group 7800 Walton Parkway New Albany\, Ohio 43054
UID:e.304.249
SEQUENCE:3
DTSTAMP:20260422T114608Z
URL:https://cm.newalbanychamber.com/events/details/community-update-breakfast-2008-09-18-2008-249
END:VEVENT

END:VCALENDAR
